BEGIN:VCALENDAR
VERSION:2.0
PRODID:-//Arizona Priority Care - ECPv6.15.20//NONSGML v1.0//EN
CALSCALE:GREGORIAN
METHOD:PUBLISH
X-ORIGINAL-URL:https://azprioritycare.com
X-WR-CALDESC:Events for Arizona Priority Care
REFRESH-INTERVAL;VALUE=DURATION:PT1H
X-Robots-Tag:noindex
X-PUBLISHED-TTL:PT1H
BEGIN:VTIMEZONE
TZID:America/Phoenix
BEGIN:STANDARD
TZOFFSETFROM:-0700
TZOFFSETTO:-0700
TZNAME:MST
DTSTART:20240101T000000
END:STANDARD
END:VTIMEZONE
BEGIN:VEVENT
DTSTART;TZID=America/Phoenix:20251011T093000
DTEND;TZID=America/Phoenix:20251011T233000
DTSTAMP:20260419T081207
CREATED:20260302T164147Z
LAST-MODIFIED:20260302T164150Z
UID:10000138-1760175000-1760225400@azprioritycare.com
SUMMARY:Boo Bash
DESCRIPTION:
URL:https://azprioritycare.com/event/boo-bash/
LOCATION:15525 N 83rd Ave\, Peoria\, AZ\, 15525 N 83rd Ave\, Peoria\, Arizona\, 85382\, United States
END:VEVENT
END:VCALENDAR